BEGIN:VCALENDAR
VERSION:2.0
PRODID:icalendar-ruby
CALSCALE:GREGORIAN
METHOD:PUBLISH
BEGIN:VEVENT
DTSTAMP:20260422T071954Z
UID:5-313529@nacionensantidad.org
DTSTART:20260510T143000Z
DTEND:20260510T153000Z
CLASS:PUBLIC
CREATED:20260219T184756
DESCRIPTION:Sunday Worship
LAST-MODIFIED:20260219T184756
LOCATION:
SUMMARY:Sunday Worship
URL;VALUE=URI:https://www.nacionensantidad.org/events/sunday-worship/2026-0
 5-10
END:VEVENT
END:VCALENDAR
