BEGIN:VCALENDAR
VERSION:2.0
PRODID:icalendar-ruby
CALSCALE:GREGORIAN
METHOD:PUBLISH
BEGIN:VEVENT
DTSTAMP:20260423T051150Z
UID:5-313543@nacionensantidad.org
DTSTART:20260816T143000Z
DTEND:20260816T153000Z
CLASS:PUBLIC
CREATED:20260219T184756
DESCRIPTION:Sunday Worship
LAST-MODIFIED:20260219T184756
LOCATION:
SUMMARY:Sunday Worship
URL;VALUE=URI:https://www.nacionensantidad.org/events/sunday-worship/2026-0
 8-16
END:VEVENT
END:VCALENDAR
